BEGIN:VCALENDAR
VERSION:2.0
PRODID:-//Tukios.com/
BEGIN:VEVENT
UID:4d56a660-531b-4d35-bdb8-5bd1089aa0ff@www.johnsonfuneralhomeaynor.com
DTSTAMP:20260419T234555Z
DTSTART:20260425T150000Z
DTEND:20260425T160000Z
SUMMARY:Memorial Service
DESCRIPTION:
URL:https://www.johnsonfuneralhomeaynor.com/obituaries/richard-smallwood
LOCATION: 290 9th Ave  Aynor SC 29511
GEO:33.9951267;-79.2003915
END:VEVENT
END:VCALENDAR