BEGIN:VCALENDAR
VERSION:2.0
PRODID:-//Tukios.com/
BEGIN:VEVENT
UID:9bd95c92-1ab6-40fd-99e2-26f880511f4c@www.johnsonfuneralhomeaynor.com
DTSTAMP:20260419T233705Z
DTSTART:20260425T140000Z
DTEND:20260425T150000Z
SUMMARY:Visitation
DESCRIPTION:
URL:https://www.johnsonfuneralhomeaynor.com/obituaries/richard-smallwood
LOCATION: 290 9th Ave  Aynor SC 29511
GEO:33.9951267;-79.2003915
END:VEVENT
END:VCALENDAR